Package: nethet Version: 1.42.0 Command: /Library/Frameworks/R.framework/Resources/bin/R CMD INSTALL nethet StartedAt: 2025-11-10 15:10:24 -0500 (Mon, 10 Nov 2025) EndedAt: 2025-11-10 15:10:30 -0500 (Mon, 10 Nov 2025) EllapsedTime: 6.9 seconds RetCode: 0 Status: OK