Package: nethet Version: 1.42.0 Command: /Library/Frameworks/R.framework/Resources/bin/R CMD build --keep-empty-dirs --no-resave-data nethet StartedAt: 2025-11-10 17:13:03 -0500 (Mon, 10 Nov 2025) EndedAt: 2025-11-10 17:14:45 -0500 (Mon, 10 Nov 2025) EllapsedTime: 101.3 seconds RetCode: 0 Status: OK PackageFile: nethet_1.42.0.tar.gz PackageFileSize: 704.6 KiB