Package: netboost Version: 2.18.0 Command: /home/biocbuild/R/R/bin/R CMD INSTALL netboost StartedAt: 2025-11-17 21:58:09 -0000 (Mon, 17 Nov 2025) EndedAt: 2025-11-17 21:59:13 -0000 (Mon, 17 Nov 2025) EllapsedTime: 63.4 seconds RetCode: 0 Status: OK