Package: netboost Version: 2.18.0 Command: /home/biocbuild/R/R/bin/R CMD build --keep-empty-dirs --no-resave-data netboost StartedAt: 2025-11-18 03:35:59 -0000 (Tue, 18 Nov 2025) EndedAt: 2025-11-18 03:37:15 -0000 (Tue, 18 Nov 2025) EllapsedTime: 76.0 seconds RetCode: 1 Status: ERROR PackageFile: None PackageFileSize: NA