Package: netboost Version: 2.18.0 Command: /home/biocbuild/bbs-3.22-bioc/R/bin/R CMD INSTALL netboost StartedAt: 2025-11-17 18:04:28 -0500 (Mon, 17 Nov 2025) EndedAt: 2025-11-17 18:05:15 -0500 (Mon, 17 Nov 2025) EllapsedTime: 47.1 seconds RetCode: 0 Status: OK