Package: netboost Version: 2.18.0 Command: /Library/Frameworks/R.framework/Resources/bin/R CMD INSTALL netboost StartedAt: 2025-11-17 18:27:41 -0500 (Mon, 17 Nov 2025) EndedAt: 2025-11-17 18:29:43 -0500 (Mon, 17 Nov 2025) EllapsedTime: 121.9 seconds RetCode: 0 Status: OK