Package: netboost Version: 2.18.0 Command: /Library/Frameworks/R.framework/Resources/bin/R CMD build --keep-empty-dirs --no-resave-data netboost StartedAt: 2025-11-18 00:38:56 -0500 (Tue, 18 Nov 2025) EndedAt: 2025-11-18 00:41:36 -0500 (Tue, 18 Nov 2025) EllapsedTime: 160.7 seconds RetCode: 0 Status: OK PackageFile: netboost_2.18.0.tar.gz PackageFileSize: 1.133 MiB