Package: netboost Version: 2.18.0 Command: /Library/Frameworks/R.framework/Resources/bin/R CMD INSTALL netboost StartedAt: 2025-11-10 15:24:01 -0500 (Mon, 10 Nov 2025) EndedAt: 2025-11-10 15:24:20 -0500 (Mon, 10 Nov 2025) EllapsedTime: 18.1 seconds RetCode: 0 Status: OK