Package: netboost Version: 2.18.0 Command: /Library/Frameworks/R.framework/Resources/bin/R CMD build --keep-empty-dirs --no-resave-data netboost StartedAt: 2025-11-10 17:12:59 -0500 (Mon, 10 Nov 2025) EndedAt: 2025-11-10 17:13:23 -0500 (Mon, 10 Nov 2025) EllapsedTime: 23.3 seconds RetCode: 0 Status: OK PackageFile: netboost_2.18.0.tar.gz PackageFileSize: 1.133 MiB