Package: netboost Version: 2.18.0 Command: /Library/Frameworks/R.framework/Resources/bin/R CMD build --keep-empty-dirs --no-resave-data netboost StartedAt: 2025-11-17 23:22:34 -0500 (Mon, 17 Nov 2025) EndedAt: 2025-11-17 23:23:00 -0500 (Mon, 17 Nov 2025) EllapsedTime: 26.2 seconds RetCode: 0 Status: OK PackageFile: netboost_2.18.0.tar.gz PackageFileSize: 1.133 MiB