Package: netZooR Version: 1.14.0 Command: /Library/Frameworks/R.framework/Resources/bin/R CMD build --keep-empty-dirs --no-resave-data netZooR StartedAt: 2025-11-10 17:13:19 -0500 (Mon, 10 Nov 2025) EndedAt: 2025-11-10 17:13:20 -0500 (Mon, 10 Nov 2025) EllapsedTime: 1.0 seconds RetCode: 1 Status: ERROR PackageFile: None PackageFileSize: NA