Package: netSmooth Version: 1.29.0 Command: /home/biocbuild/bbs-3.22-bioc/R/bin/R CMD INSTALL netSmooth StartedAt: 2025-10-06 15:55:37 -0400 (Mon, 06 Oct 2025) EndedAt: 2025-10-06 15:56:23 -0400 (Mon, 06 Oct 2025) EllapsedTime: 45.7 seconds RetCode: 0 Status: OK