Package: netSmooth Version: 1.30.0 Command: /Library/Frameworks/R.framework/Resources/bin/R CMD build --keep-empty-dirs --no-resave-data netSmooth StartedAt: 2025-11-10 17:13:17 -0500 (Mon, 10 Nov 2025) EndedAt: 2025-11-10 17:14:04 -0500 (Mon, 10 Nov 2025) EllapsedTime: 47.5 seconds RetCode: 0 Status: OK PackageFile: netSmooth_1.30.0.tar.gz PackageFileSize: 3.072 MiB