Package: nempi Version: 1.18.0 Command: /home/biocbuild/bbs-3.22-bioc/R/bin/R CMD INSTALL nempi StartedAt: 2025-11-17 17:17:10 -0500 (Mon, 17 Nov 2025) EndedAt: 2025-11-17 17:17:26 -0500 (Mon, 17 Nov 2025) EllapsedTime: 16.1 seconds RetCode: 0 Status: OK