Package: nempi Version: 1.18.0 Command: /home/biocbuild/bbs-3.22-bioc/R/bin/R CMD build --keep-empty-dirs --no-resave-data --md5 nempi StartedAt: 2025-11-17 22:24:50 -0500 (Mon, 17 Nov 2025) EndedAt: 2025-11-17 22:25:35 -0500 (Mon, 17 Nov 2025) EllapsedTime: 45.0 seconds RetCode: 0 Status: OK PackageFile: nempi_1.18.0.tar.gz PackageFileSize: 585.7 KiB