Package: ndexr Version: 1.31.0 Command: /home/biocbuild/bbs-3.22-bioc/R/bin/R CMD INSTALL ndexr StartedAt: 2025-10-24 15:19:17 -0400 (Fri, 24 Oct 2025) EndedAt: 2025-10-24 15:19:20 -0400 (Fri, 24 Oct 2025) EllapsedTime: 2.6 seconds RetCode: 0 Status: OK