Package: ndexr Version: 1.32.0 Command: /Library/Frameworks/R.framework/Resources/bin/R CMD build --keep-empty-dirs --no-resave-data ndexr StartedAt: 2025-11-03 18:01:01 -0500 (Mon, 03 Nov 2025) EndedAt: 2025-11-03 18:01:17 -0500 (Mon, 03 Nov 2025) EllapsedTime: 16.0 seconds RetCode: 0 Status: OK PackageFile: ndexr_1.32.0.tar.gz PackageFileSize: 946.4 KiB