Package: ndexr Version: 1.32.0 Command: rm -rf ndexr.buildbin-libdir && mkdir ndexr.buildbin-libdir && /Users/biocbuild/BBS/utils/build-universal.sh ndexr_1.32.0.tar.gz /Library/Frameworks/R.framework/Resources/bin/R ndexr.buildbin-libdir StartedAt: 2025-11-04 01:53:09 -0500 (Tue, 04 Nov 2025) EndedAt: 2025-11-04 01:53:15 -0500 (Tue, 04 Nov 2025) EllapsedTime: 5.8 seconds RetCode: 0 Status: OK PackageFile: ndexr_1.32.0.tgz PackageFileSize: 617.3 KiB