Package: ndexr Version: 1.32.0 Command: /Library/Frameworks/R.framework/Resources/bin/R CMD build --keep-empty-dirs --no-resave-data ndexr StartedAt: 2025-11-06 17:11:50 -0500 (Thu, 06 Nov 2025) EndedAt: 2025-11-06 17:11:57 -0500 (Thu, 06 Nov 2025) EllapsedTime: 7.1 seconds RetCode: 0 Status: OK PackageFile: ndexr_1.32.0.tar.gz PackageFileSize: 946.5 KiB