Package: ncdfFlow Version: 2.55.0 Command: /home/biocbuild/bbs-3.22-bioc/R/bin/R CMD INSTALL ncdfFlow StartedAt: 2025-10-24 15:24:18 -0400 (Fri, 24 Oct 2025) EndedAt: 2025-10-24 15:24:30 -0400 (Fri, 24 Oct 2025) EllapsedTime: 12.3 seconds RetCode: 0 Status: OK