Package: ncdfFlow Version: 2.55.0 Command: /home/biocbuild/bbs-3.22-bioc/R/bin/R CMD build --keep-empty-dirs --no-resave-data --md5 ncdfFlow StartedAt: 2025-10-24 19:08:05 -0400 (Fri, 24 Oct 2025) EndedAt: 2025-10-24 19:08:30 -0400 (Fri, 24 Oct 2025) EllapsedTime: 25.0 seconds RetCode: 0 Status: OK PackageFile: ncdfFlow_2.55.0.tar.gz PackageFileSize: 200 KiB