Package: ncdfFlow Version: 2.56.0 Command: /Library/Frameworks/R.framework/Resources/bin/R CMD INSTALL ncdfFlow StartedAt: 2025-11-03 15:20:19 -0500 (Mon, 03 Nov 2025) EndedAt: 2025-11-03 15:20:36 -0500 (Mon, 03 Nov 2025) EllapsedTime: 17.8 seconds RetCode: 0 Status: OK