Package: ncdfFlow Version: 2.56.0 Command: /Library/Frameworks/R.framework/Resources/bin/R CMD build --keep-empty-dirs --no-resave-data ncdfFlow StartedAt: 2025-11-03 18:00:51 -0500 (Mon, 03 Nov 2025) EndedAt: 2025-11-03 18:01:24 -0500 (Mon, 03 Nov 2025) EllapsedTime: 33.1 seconds RetCode: 0 Status: OK PackageFile: ncdfFlow_2.56.0.tar.gz PackageFileSize: 197.4 KiB