Package: ncdfFlow Version: 2.56.0 Command: /Library/Frameworks/R.framework/Resources/bin/R CMD INSTALL ncdfFlow StartedAt: 2025-11-10 15:07:24 -0500 (Mon, 10 Nov 2025) EndedAt: 2025-11-10 15:07:30 -0500 (Mon, 10 Nov 2025) EllapsedTime: 5.7 seconds RetCode: 0 Status: OK