Package: ncdfFlow Version: 2.56.0 Command: /Library/Frameworks/R.framework/Resources/bin/R CMD build --keep-empty-dirs --no-resave-data ncdfFlow StartedAt: 2025-11-10 17:12:27 -0500 (Mon, 10 Nov 2025) EndedAt: 2025-11-10 17:12:39 -0500 (Mon, 10 Nov 2025) EllapsedTime: 12.1 seconds RetCode: 0 Status: OK PackageFile: ncdfFlow_2.56.0.tar.gz PackageFileSize: 198.8 KiB