Package: ncdfFlow Version: 2.56.0 Command: rm -rf ncdfFlow.buildbin-libdir && mkdir ncdfFlow.buildbin-libdir && /Users/biocbuild/BBS/utils/build-universal.sh ncdfFlow_2.56.0.tar.gz /Library/Frameworks/R.framework/Resources/bin/R ncdfFlow.buildbin-libdir StartedAt: 2025-11-10 23:29:22 -0500 (Mon, 10 Nov 2025) EndedAt: 2025-11-10 23:29:28 -0500 (Mon, 10 Nov 2025) EllapsedTime: 6.1 seconds RetCode: 0 Status: OK PackageFile: ncdfFlow_2.56.0.tgz PackageFileSize: 1.769 MiB