Package: ncdfFlow Version: 2.56.0 Command: /Library/Frameworks/R.framework/Resources/bin/R CMD build --keep-empty-dirs --no-resave-data ncdfFlow StartedAt: 2025-11-17 23:20:40 -0500 (Mon, 17 Nov 2025) EndedAt: 2025-11-17 23:20:53 -0500 (Mon, 17 Nov 2025) EllapsedTime: 13.1 seconds RetCode: 0 Status: OK PackageFile: ncdfFlow_2.56.0.tar.gz PackageFileSize: 198.8 KiB