Package: ncdfFlow Version: 2.56.0 Command: rm -rf ncdfFlow.buildbin-libdir && mkdir ncdfFlow.buildbin-libdir && /Users/biocbuild/BBS/utils/build-universal.sh ncdfFlow_2.56.0.tar.gz /Library/Frameworks/R.framework/Resources/bin/R ncdfFlow.buildbin-libdir StartedAt: 2025-11-18 16:01:43 -0500 (Tue, 18 Nov 2025) EndedAt: 2025-11-18 16:01:52 -0500 (Tue, 18 Nov 2025) EllapsedTime: 9.1 seconds RetCode: 0 Status: OK PackageFile: ncdfFlow_2.56.0.tgz PackageFileSize: 1.76 MiB