Package: mzR Version: 2.44.0 Command: /Library/Frameworks/R.framework/Resources/bin/R CMD INSTALL mzR StartedAt: 2025-11-10 15:07:54 -0500 (Mon, 10 Nov 2025) EndedAt: 2025-11-10 15:10:14 -0500 (Mon, 10 Nov 2025) EllapsedTime: 139.7 seconds RetCode: 0 Status: OK