Package: mzR Version: 2.44.0 Command: /Library/Frameworks/R.framework/Resources/bin/R CMD build --keep-empty-dirs --no-resave-data mzR StartedAt: 2025-11-10 17:11:58 -0500 (Mon, 10 Nov 2025) EndedAt: 2025-11-10 17:14:28 -0500 (Mon, 10 Nov 2025) EllapsedTime: 150.7 seconds RetCode: 0 Status: OK PackageFile: mzR_2.44.0.tar.gz PackageFileSize: 7.354 MiB