Package: mzR Version: 2.44.0 Command: rm -rf mzR.buildbin-libdir && mkdir mzR.buildbin-libdir && /Users/biocbuild/BBS/utils/build-universal.sh mzR_2.44.0.tar.gz /Library/Frameworks/R.framework/Resources/bin/R mzR.buildbin-libdir StartedAt: 2025-11-10 23:29:11 -0500 (Mon, 10 Nov 2025) EndedAt: 2025-11-10 23:31:41 -0500 (Mon, 10 Nov 2025) EllapsedTime: 149.2 seconds RetCode: 0 Status: OK PackageFile: mzR_2.44.0.tgz PackageFileSize: 3.565 MiB