Package: multistateQTL Version: 2.2.0 Command: /home/biocbuild/bbs-3.22-bioc/R/bin/R CMD INSTALL multistateQTL StartedAt: 2025-11-25 15:59:03 -0500 (Tue, 25 Nov 2025) EndedAt: 2025-11-25 15:59:30 -0500 (Tue, 25 Nov 2025) EllapsedTime: 26.8 seconds RetCode: 0 Status: OK