Package: multistateQTL Version: 2.2.0 Command: /home/biocbuild/bbs-3.22-bioc/R/bin/R CMD build --keep-empty-dirs --no-resave-data --md5 multistateQTL StartedAt: 2025-11-25 19:26:39 -0500 (Tue, 25 Nov 2025) EndedAt: 2025-11-25 19:27:34 -0500 (Tue, 25 Nov 2025) EllapsedTime: 55.1 seconds RetCode: 0 Status: OK PackageFile: multistateQTL_2.2.0.tar.gz PackageFileSize: 865.3 KiB