Package: multiWGCNA Version: 1.7.0 Command: /home/biocbuild/bbs-3.22-bioc/R/bin/R CMD build --keep-empty-dirs --no-resave-data --md5 multiWGCNA StartedAt: 2025-10-24 19:05:50 -0400 (Fri, 24 Oct 2025) EndedAt: 2025-10-24 19:09:56 -0400 (Fri, 24 Oct 2025) EllapsedTime: 246.2 seconds RetCode: 0 Status: OK PackageFile: multiWGCNA_1.7.0.tar.gz PackageFileSize: 3.424 MiB