Package: multiMiR Version: 1.31.0 Command: /home/biocbuild/bbs-3.22-bioc/R/bin/R CMD INSTALL multiMiR StartedAt: 2025-10-24 15:36:16 -0400 (Fri, 24 Oct 2025) EndedAt: 2025-10-24 15:36:32 -0400 (Fri, 24 Oct 2025) EllapsedTime: 15.5 seconds RetCode: 0 Status: OK