Package: multiMiR Version: 1.31.0 Command: /home/biocbuild/bbs-3.22-bioc/R/bin/R CMD build --keep-empty-dirs --no-resave-data --md5 multiMiR StartedAt: 2025-10-24 19:05:35 -0400 (Fri, 24 Oct 2025) EndedAt: 2025-10-24 19:06:38 -0400 (Fri, 24 Oct 2025) EllapsedTime: 63.1 seconds RetCode: 0 Status: OK PackageFile: multiMiR_1.31.0.tar.gz PackageFileSize: 334.6 KiB