Package: multiMiR Version: 1.32.0 Command: /Library/Frameworks/R.framework/Resources/bin/R CMD INSTALL multiMiR StartedAt: 2025-11-10 15:08:59 -0500 (Mon, 10 Nov 2025) EndedAt: 2025-11-10 15:09:06 -0500 (Mon, 10 Nov 2025) EllapsedTime: 6.2 seconds RetCode: 0 Status: OK