Package: multiMiR Version: 1.32.0 Command: /Library/Frameworks/R.framework/Resources/bin/R CMD build --keep-empty-dirs --no-resave-data multiMiR StartedAt: 2025-11-10 17:10:26 -0500 (Mon, 10 Nov 2025) EndedAt: 2025-11-10 17:12:48 -0500 (Mon, 10 Nov 2025) EllapsedTime: 142.6 seconds RetCode: 0 Status: OK PackageFile: multiMiR_1.32.0.tar.gz PackageFileSize: 331.9 KiB