Package: multiMiR Version: 1.32.0 Command: rm -rf multiMiR.buildbin-libdir && mkdir multiMiR.buildbin-libdir && /Users/biocbuild/BBS/utils/build-universal.sh multiMiR_1.32.0.tar.gz /Library/Frameworks/R.framework/Resources/bin/R multiMiR.buildbin-libdir StartedAt: 2025-11-10 23:28:54 -0500 (Mon, 10 Nov 2025) EndedAt: 2025-11-10 23:29:01 -0500 (Mon, 10 Nov 2025) EllapsedTime: 7.1 seconds RetCode: 0 Status: OK PackageFile: multiMiR_1.32.0.tgz PackageFileSize: 636.1 KiB