Package: multiHiCcompare Version: 1.27.0 Command: /home/biocbuild/bbs-3.22-bioc/R/bin/R CMD INSTALL multiHiCcompare StartedAt: 2025-10-24 15:42:21 -0400 (Fri, 24 Oct 2025) EndedAt: 2025-10-24 15:42:51 -0400 (Fri, 24 Oct 2025) EllapsedTime: 29.5 seconds RetCode: 0 Status: OK