Package: multiHiCcompare Version: 1.28.0 Command: /Library/Frameworks/R.framework/Resources/bin/R CMD build --keep-empty-dirs --no-resave-data multiHiCcompare StartedAt: 2025-11-02 18:01:48 -0500 (Sun, 02 Nov 2025) EndedAt: 2025-11-02 18:03:07 -0500 (Sun, 02 Nov 2025) EllapsedTime: 79.0 seconds RetCode: 0 Status: OK PackageFile: multiHiCcompare_1.28.0.tar.gz PackageFileSize: 4.726 MiB