Package: msqrob2 Version: 1.18.0 Command: /home/biocbuild/bbs-3.22-bioc/R/bin/R CMD INSTALL msqrob2 StartedAt: 2025-11-16 15:37:05 -0500 (Sun, 16 Nov 2025) EndedAt: 2025-11-16 15:37:36 -0500 (Sun, 16 Nov 2025) EllapsedTime: 31.3 seconds RetCode: 0 Status: OK