Package: msmsTests Version: 1.47.0 Command: /home/biocbuild/bbs-3.22-bioc/R/bin/R CMD INSTALL msmsTests StartedAt: 2025-10-24 15:48:46 -0400 (Fri, 24 Oct 2025) EndedAt: 2025-10-24 15:49:22 -0400 (Fri, 24 Oct 2025) EllapsedTime: 36.7 seconds RetCode: 0 Status: OK