Package: msmsTests Version: 1.47.0 Command: /home/biocbuild/bbs-3.22-bioc/R/bin/R CMD build --keep-empty-dirs --no-resave-data --md5 msmsTests StartedAt: 2025-10-24 19:02:18 -0400 (Fri, 24 Oct 2025) EndedAt: 2025-10-24 19:03:35 -0400 (Fri, 24 Oct 2025) EllapsedTime: 77.1 seconds RetCode: 0 Status: OK PackageFile: msmsTests_1.47.0.tar.gz PackageFileSize: 548.7 KiB