Package: msmsTests Version: 1.48.0 Command: /Library/Frameworks/R.framework/Resources/bin/R CMD INSTALL msmsTests StartedAt: 2025-11-10 15:22:42 -0500 (Mon, 10 Nov 2025) EndedAt: 2025-11-10 15:22:57 -0500 (Mon, 10 Nov 2025) EllapsedTime: 15.2 seconds RetCode: 0 Status: OK