Package: msmsTests Version: 1.48.0 Command: /Library/Frameworks/R.framework/Resources/bin/R CMD build --keep-empty-dirs --no-resave-data msmsTests StartedAt: 2025-11-10 17:08:48 -0500 (Mon, 10 Nov 2025) EndedAt: 2025-11-10 17:09:21 -0500 (Mon, 10 Nov 2025) EllapsedTime: 33.4 seconds RetCode: 0 Status: OK PackageFile: msmsTests_1.48.0.tar.gz PackageFileSize: 548.8 KiB