Package: msmsTests Version: 1.48.0 Command: rm -rf msmsTests.buildbin-libdir && mkdir msmsTests.buildbin-libdir && /Users/biocbuild/BBS/utils/build-universal.sh msmsTests_1.48.0.tar.gz /Library/Frameworks/R.framework/Resources/bin/R msmsTests.buildbin-libdir StartedAt: 2025-11-10 23:28:24 -0500 (Mon, 10 Nov 2025) EndedAt: 2025-11-10 23:28:42 -0500 (Mon, 10 Nov 2025) EllapsedTime: 17.3 seconds RetCode: 0 Status: OK PackageFile: msmsTests_1.48.0.tgz PackageFileSize: 584.1 KiB