Package: msmsEDA Version: 1.47.0 Command: /home/biocbuild/bbs-3.22-bioc/R/bin/R CMD build --keep-empty-dirs --no-resave-data --md5 msmsEDA StartedAt: 2025-10-24 19:01:58 -0400 (Fri, 24 Oct 2025) EndedAt: 2025-10-24 19:02:50 -0400 (Fri, 24 Oct 2025) EllapsedTime: 52.0 seconds RetCode: 0 Status: OK PackageFile: msmsEDA_1.47.0.tar.gz PackageFileSize: 439.9 KiB