Package: mslp Version: 1.12.0 Command: /home/biocbuild/bbs-3.22-bioc/R/bin/R CMD INSTALL mslp StartedAt: 2025-11-06 15:27:50 -0500 (Thu, 06 Nov 2025) EndedAt: 2025-11-06 15:27:52 -0500 (Thu, 06 Nov 2025) EllapsedTime: 2.1 seconds RetCode: 0 Status: OK