Package: mslp Version: 1.12.0 Command: /home/biocbuild/bbs-3.22-bioc/R/bin/R CMD build --keep-empty-dirs --no-resave-data --md5 mslp StartedAt: 2025-11-06 18:53:25 -0500 (Thu, 06 Nov 2025) EndedAt: 2025-11-06 18:53:58 -0500 (Thu, 06 Nov 2025) EllapsedTime: 33.0 seconds RetCode: 0 Status: OK PackageFile: mslp_1.12.0.tar.gz PackageFileSize: 408.9 KiB